BEGIN:VCALENDAR
VERSION:2.0
PRODID:-//Chicagoland MOPAR Club - ECPv6.13.2.1//NONSGML v1.0//EN
CALSCALE:GREGORIAN
METHOD:PUBLISH
X-WR-CALNAME:Chicagoland MOPAR Club
X-ORIGINAL-URL:https://www.chicagolandmopar.com
X-WR-CALDESC:Events for Chicagoland MOPAR Club
REFRESH-INTERVAL;VALUE=DURATION:PT1H
X-Robots-Tag:noindex
X-PUBLISHED-TTL:PT1H
BEGIN:VTIMEZONE
TZID:America/Chicago
BEGIN:DAYLIGHT
TZOFFSETFROM:-0600
TZOFFSETTO:-0500
TZNAME:CDT
DTSTART:20230312T080000
END:DAYLIGHT
BEGIN:STANDARD
TZOFFSETFROM:-0500
TZOFFSETTO:-0600
TZNAME:CST
DTSTART:20231105T070000
END:STANDARD
END:VTIMEZONE
BEGIN:VEVENT
DTSTART;TZID=America/Chicago:20230604T090000
DTEND;TZID=America/Chicago:20230604T150000
DTSTAMP:20260421T214248
CREATED:20230121T013737Z
LAST-MODIFIED:20230315T235919Z
UID:2191-1685869200-1685890800@www.chicagolandmopar.com
SUMMARY:Mo-Power Madness Car Show and Swap
DESCRIPTION:
URL:/event/mo-power-madness-car-show-and-swap
LOCATION:Cozzi Corner\, 1202 N 75th St\, Downers Grove\, IL\, 60516\, United States
END:VEVENT
BEGIN:VEVENT
DTSTART;TZID=America/Chicago:20230625T090000
DTEND;TZID=America/Chicago:20230625T153000
DTSTAMP:20260421T214248
CREATED:20230121T013943Z
LAST-MODIFIED:20230520T133159Z
UID:2193-1687683600-1687707000@www.chicagolandmopar.com
SUMMARY:Mopars at the Park
DESCRIPTION:
URL:/event/mopars-at-the-park-2
LOCATION:Veteran’s Park\, 306 Washington Street\, Fox Lake\, IL\, 60041\, United States
END:VEVENT
END:VCALENDAR