BEGIN:VCALENDAR
VERSION:2.0
PRODID:-//Chicagoland MOPAR Club - ECPv6.13.2.1//NONSGML v1.0//EN
CALSCALE:GREGORIAN
METHOD:PUBLISH
X-WR-CALNAME:Chicagoland MOPAR Club
X-ORIGINAL-URL:https://www.chicagolandmopar.com
X-WR-CALDESC:Events for Chicagoland MOPAR Club
REFRESH-INTERVAL;VALUE=DURATION:PT1H
X-Robots-Tag:noindex
X-PUBLISHED-TTL:PT1H
BEGIN:VTIMEZONE
TZID:America/Chicago
BEGIN:DAYLIGHT
TZOFFSETFROM:-0600
TZOFFSETTO:-0500
TZNAME:CDT
DTSTART:20220313T080000
END:DAYLIGHT
BEGIN:STANDARD
TZOFFSETFROM:-0500
TZOFFSETTO:-0600
TZNAME:CST
DTSTART:20221106T070000
END:STANDARD
END:VTIMEZONE
BEGIN:VEVENT
DTSTART;TZID=America/Chicago:20220605T090000
DTEND;TZID=America/Chicago:20220605T150000
DTSTAMP:20260420T093024
CREATED:20211220T012218Z
LAST-MODIFIED:20220210T232045Z
UID:2071-1654419600-1654441200@www.chicagolandmopar.com
SUMMARY:Mo-Power Madness Car Show & Swap
DESCRIPTION:Mo-Power Madness 2022 will be held on June 5\, 2022 from 9:00 AM to 3:00 PM at Cozzi Corner in Downers Grove\, IL. \nClick here for Details \n  \n  \n 
URL:/event/mo_power-madness-car-show-swap
LOCATION:Cozzi Corner\, 1202 N 75th St\, Downers Grove\, IL\, 60516\, United States
END:VEVENT
END:VCALENDAR