BEGIN:VCALENDAR
VERSION:2.0
PRODID:-//Chicagoland MOPAR Club - ECPv6.13.2.1//NONSGML v1.0//EN
CALSCALE:GREGORIAN
METHOD:PUBLISH
X-WR-CALNAME:Chicagoland MOPAR Club
X-ORIGINAL-URL:https://www.chicagolandmopar.com
X-WR-CALDESC:Events for Chicagoland MOPAR Club
REFRESH-INTERVAL;VALUE=DURATION:PT1H
X-Robots-Tag:noindex
X-PUBLISHED-TTL:PT1H
BEGIN:VTIMEZONE
TZID:America/Chicago
BEGIN:DAYLIGHT
TZOFFSETFROM:-0600
TZOFFSETTO:-0500
TZNAME:CDT
DTSTART:20230312T080000
END:DAYLIGHT
BEGIN:STANDARD
TZOFFSETFROM:-0500
TZOFFSETTO:-0600
TZNAME:CST
DTSTART:20231105T070000
END:STANDARD
END:VTIMEZONE
BEGIN:VEVENT
DTSTART;TZID=America/Chicago:20230723T110000
DTEND;TZID=America/Chicago:20230723T153000
DTSTAMP:20260421T182205
CREATED:20230121T002309Z
LAST-MODIFIED:20230121T002309Z
UID:2183-1690110000-1690126200@www.chicagolandmopar.com
SUMMARY:Glory Bound Rescue Ranch Car Show
DESCRIPTION:
URL:/event/glory-bound-rescue-ranch-car-show
LOCATION:Niko’s Grill & Pub\, 7509 S. Grant Highway\, Marengo\, 60152\, United States
END:VEVENT
END:VCALENDAR