BEGIN:VCALENDAR
VERSION:2.0
PRODID:-//Chicagoland MOPAR Club - ECPv6.13.2.1//NONSGML v1.0//EN
CALSCALE:GREGORIAN
METHOD:PUBLISH
X-ORIGINAL-URL:https://www.chicagolandmopar.com
X-WR-CALDESC:Events for Chicagoland MOPAR Club
REFRESH-INTERVAL;VALUE=DURATION:PT1H
X-Robots-Tag:noindex
X-PUBLISHED-TTL:PT1H
BEGIN:VTIMEZONE
TZID:America/Chicago
BEGIN:DAYLIGHT
TZOFFSETFROM:-0600
TZOFFSETTO:-0500
TZNAME:CDT
DTSTART:20230312T080000
END:DAYLIGHT
BEGIN:STANDARD
TZOFFSETFROM:-0500
TZOFFSETTO:-0600
TZNAME:CST
DTSTART:20231105T070000
END:STANDARD
END:VTIMEZONE
BEGIN:VEVENT
DTSTART;TZID=America/Chicago:20230212T080000
DTEND;TZID=America/Chicago:20230212T140000
DTSTAMP:20260424T103655
CREATED:20230121T013520Z
LAST-MODIFIED:20230121T013520Z
UID:2186-1676188800-1676210400@www.chicagolandmopar.com
SUMMARY:Winter Swap
DESCRIPTION:
URL:/event/winter-swap
LOCATION:Bettenhausen\, 16471 W 159th St\, Lockport\, IL\, 60441\, United States
END:VEVENT
END:VCALENDAR